BEGIN:VCALENDAR
VERSION:2.0
CALSCALE:GREGORIAN
METHOD:PUBLISH
PRODID://GSFG//419585
BEGIN:VEVENT
DTSTAMP:20260424T105530
VTIMEZONE:America/New_York
DTSTART:20251210T000000Z
DTEND:20251210T013000Z
UID:419585
SUMMARY:Executive Committee Meeting
LOCATION:Great Swamp Clubhouse, 2650 Schukraft Road, Quakertown, PA, 18951
DESCRIPTION:Executive Committee Meeting\n\n12/09/25 07:00 PM EST\n - 12/09/25 08:30 PM EST\Location:\nGreat Swamp Clubhouse\n2650 Schukraft Road\nQuakertown, PA 18951
X-ALT-DESC;FMTTYPE=text/html:Executive Committee Meeting<br /><br />12/09/25 07:00 PM EST - 12/09/25 08:30 PM EST<br />Location:<br />Great Swamp Clubhouse<br />2650 Schukraft Road<br />Quakertown, PA 18951
PRIORITY:3
TRANSP:TRANSPARENT
BEGIN:VALARM
TRIGGER:-PT5M
ACTION:DISPLAY
DESCRIPTION:Reminder
END:VALARM
END:VEVENT
END:VCALENDAR
