BEGIN:VCALENDAR
VERSION:2.0
CALSCALE:GREGORIAN
METHOD:PUBLISH
PRODID://GSFG//419595
BEGIN:VEVENT
DTSTAMP:20260424T025507
VTIMEZONE:America/New_York
DTSTART:20251119T003000Z
DTEND:20251119T010000Z
UID:419595
SUMMARY:General Membership Meeting
LOCATION:Great Swamp Clubhouse, 2650 Schukraft Road, Quakertown, PA, 18951
DESCRIPTION:General Membership Meeting\n\n11/18/25 07:30 PM EST\n - 11/18/25 08:00 PM EST\Description:\n**** ELECTION OF OFFICERS & DIRECTORS ****\Location:\nGreat Swamp Clubhouse\n2650 Schukraft Road\nQuakertown, PA 18951
X-ALT-DESC;FMTTYPE=text/html:General Membership Meeting<br /><br />11/18/25 07:30 PM EST - 11/18/25 08:00 PM EST<br />Description:<br /><span style="color:#008000">**** ELECTION OF OFFICERS &amp; DIRECTORS ****</span><br />Location:<br />Great Swamp Clubhouse<br />2650 Schukraft Road<br />Quakertown, PA 18951
PRIORITY:3
TRANSP:TRANSPARENT
BEGIN:VALARM
TRIGGER:-PT5M
ACTION:DISPLAY
DESCRIPTION:Reminder
END:VALARM
END:VEVENT
END:VCALENDAR
