BEGIN:VCALENDAR
VERSION:2.0
CALSCALE:GREGORIAN
METHOD:PUBLISH
PRODID://GSFG//422854
BEGIN:VEVENT
DTSTAMP:20260424T060914
VTIMEZONE:America/New_York
DTSTART:20251207T180000Z
DTEND:20251207T190000Z
UID:422854
SUMMARY:Kids Christmas Party
LOCATION:Great Swamp Clubhouse, 2650 Schukraft Road, Quakertown, PA, 18951
DESCRIPTION:Kids Christmas Party\n\n12/07/25 01:00 PM EST\n - 12/07/25 02:00 PM EST\Description:\nKids Christmas Party\Location:\nGreat Swamp Clubhouse\n2650 Schukraft Road\nQuakertown, PA 18951
X-ALT-DESC;FMTTYPE=text/html:Kids Christmas Party<br /><br />12/07/25 01:00 PM EST - 12/07/25 02:00 PM EST<br />Description:<br /><span style="color:#FF0000"><span style="font-size:20px">Kids Christmas Party</span></span><br />Location:<br />Great Swamp Clubhouse<br />2650 Schukraft Road<br />Quakertown, PA 18951
PRIORITY:3
TRANSP:TRANSPARENT
BEGIN:VALARM
TRIGGER:-PT5M
ACTION:DISPLAY
DESCRIPTION:Reminder
END:VALARM
END:VEVENT
END:VCALENDAR
