BEGIN:VCALENDAR
VERSION:2.0
CALSCALE:GREGORIAN
METHOD:PUBLISH
PRODID://GSFG//448912
BEGIN:VEVENT
DTSTAMP:20260424T044059
VTIMEZONE:America/New_York
DTSTART:20250920T220000Z
DTEND:20250921T020000Z
UID:448912
SUMMARY:Bingo
LOCATION:
DESCRIPTION:Bingo\n\n09/20/25 06:00 PM EST\n - 09/20/25 10:00 PM EST\Description:\nDOORS OPEN @ 3:30 PM       GAMES BEGIN @ 6PM\n\nContact Michele Cutillo at 215-718-5336 or email her at mapcutillo@yahoo.com.   for more information\n\nEnjoy and we hope every one is a winner,\n\nVolunteers needed for Bingo night!\n
X-ALT-DESC;FMTTYPE=text/html:Bingo<br /><br />09/20/25 06:00 PM EST - 09/20/25 10:00 PM EST<br />Description:<br /><p><strong>DOORS OPEN @ 3:30 PM &nbsp; &nbsp; &nbsp; GAMES BEGIN @ 6PM</strong></p>

<p><strong>Contact Michele Cutillo at 215-718-5336 or email her at <a href="mailto:jleberk@gmail.com">mapcutillo@yahoo.com.&nbsp; </a> for more information</strong></p>

<p><strong>Enjoy and we hope every one is a winner</strong>,</p>

<p><strong>Volunteers needed for Bingo night!</strong></p>

PRIORITY:3
TRANSP:TRANSPARENT
BEGIN:VALARM
TRIGGER:-PT5M
ACTION:DISPLAY
DESCRIPTION:Reminder
END:VALARM
END:VEVENT
END:VCALENDAR
