BEGIN:VCALENDAR
VERSION:2.0
CALSCALE:GREGORIAN
METHOD:PUBLISH
PRODID://GSFG//454038
BEGIN:VEVENT
DTSTAMP:20260424T050905
VTIMEZONE:America/New_York
DTSTART:20251028T233000Z
DTEND:20251029T010000Z
UID:454038
SUMMARY:General MembershipMeeting
LOCATION:Great Swamp Fish and Game Clubhouse, 2650 Schukraft Road, Quakertown, PA, 18951
DESCRIPTION:General MembershipMeeting\n\n10/28/25 07:30 PM EST\n - 10/28/25 09:00 PM EST\Description:\n**** Nomination of Officers and Directors ****\n\nThe new fish warden for Upper Bucks county is scheduled to introduce himself and to answer any questions our members may have.\Location:\nGreat Swamp Fish and Game Clubhouse\n2650 Schukraft Road\nQuakertown, PA 18951
X-ALT-DESC;FMTTYPE=text/html:General MembershipMeeting<br /><br />10/28/25 07:30 PM EST - 10/28/25 09:00 PM EST<br />Description:<br /><strong><span style="color:#006400"><span style="font-size:14px">**** Nomination of Officers and Directors ****<br />
<br />
The new fish warden for Upper Bucks county is scheduled to introduce himself and to answer any questions our members may have.</span></span></strong><br />Location:<br />Great Swamp Fish and Game Clubhouse<br />2650 Schukraft Road<br />Quakertown, PA 18951
PRIORITY:3
TRANSP:TRANSPARENT
BEGIN:VALARM
TRIGGER:-PT5M
ACTION:DISPLAY
DESCRIPTION:Reminder
END:VALARM
END:VEVENT
END:VCALENDAR
