BEGIN:VCALENDAR
VERSION:2.0
CALSCALE:GREGORIAN
METHOD:PUBLISH
PRODID://GSFG//475496
BEGIN:VEVENT
DTSTAMP:20260423T133522
VTIMEZONE:America/New_York
DTSTART:20260428T233000Z
DTEND:20260429T010000Z
UID:475496
SUMMARY:General Membership Meeting
LOCATION:
DESCRIPTION:General Membership Meeting\n\n04/28/26 07:30 PM EST\n - 04/28/26 09:00 PM EST
X-ALT-DESC;FMTTYPE=text/html:General Membership Meeting<br /><br />04/28/26 07:30 PM EST - 04/28/26 09:00 PM EST
PRIORITY:3
TRANSP:TRANSPARENT
BEGIN:VALARM
TRIGGER:-PT5M
ACTION:DISPLAY
DESCRIPTION:Reminder
END:VALARM
END:VEVENT
END:VCALENDAR
