BEGIN:VCALENDAR
VERSION:2.0
CALSCALE:GREGORIAN
METHOD:PUBLISH
PRODID://GSFG//475497
BEGIN:VEVENT
DTSTAMP:20260423T133552
VTIMEZONE:America/New_York
DTSTART:20260526T233000Z
DTEND:20260527T010000Z
UID:475497
SUMMARY:General Membership Meeting
LOCATION:
DESCRIPTION:General Membership Meeting\n\n05/26/26 07:30 PM EST\n - 05/26/26 09:00 PM EST
X-ALT-DESC;FMTTYPE=text/html:General Membership Meeting<br /><br />05/26/26 07:30 PM EST - 05/26/26 09:00 PM EST
PRIORITY:3
TRANSP:TRANSPARENT
BEGIN:VALARM
TRIGGER:-PT5M
ACTION:DISPLAY
DESCRIPTION:Reminder
END:VALARM
END:VEVENT
END:VCALENDAR
