BEGIN:VCALENDAR
VERSION:2.0
CALSCALE:GREGORIAN
METHOD:PUBLISH
PRODID://GSFG//475498
BEGIN:VEVENT
DTSTAMP:20260423T170451
VTIMEZONE:America/New_York
DTSTART:20260623T233000Z
DTEND:20260624T010000Z
UID:475498
SUMMARY:General Membership Meeting
LOCATION:
DESCRIPTION:General Membership Meeting\n\n06/23/26 07:30 PM EST\n - 06/23/26 09:00 PM EST
X-ALT-DESC;FMTTYPE=text/html:General Membership Meeting<br /><br />06/23/26 07:30 PM EST - 06/23/26 09:00 PM EST
PRIORITY:3
TRANSP:TRANSPARENT
BEGIN:VALARM
TRIGGER:-PT5M
ACTION:DISPLAY
DESCRIPTION:Reminder
END:VALARM
END:VEVENT
END:VCALENDAR
