BEGIN:VCALENDAR
VERSION:2.0
CALSCALE:GREGORIAN
METHOD:PUBLISH
PRODID://GSFG//475499
BEGIN:VEVENT
DTSTAMP:20260424T042834
VTIMEZONE:America/New_York
DTSTART:20260728T233000Z
DTEND:20260729T010000Z
UID:475499
SUMMARY:General Membership Meeting
LOCATION:
DESCRIPTION:General Membership Meeting\n\n07/28/26 07:30 PM EST\n - 07/28/26 09:00 PM EST
X-ALT-DESC;FMTTYPE=text/html:General Membership Meeting<br /><br />07/28/26 07:30 PM EST - 07/28/26 09:00 PM EST
PRIORITY:3
TRANSP:TRANSPARENT
BEGIN:VALARM
TRIGGER:-PT5M
ACTION:DISPLAY
DESCRIPTION:Reminder
END:VALARM
END:VEVENT
END:VCALENDAR
