BEGIN:VCALENDAR
VERSION:2.0
CALSCALE:GREGORIAN
METHOD:PUBLISH
PRODID://GSFG//475500
BEGIN:VEVENT
DTSTAMP:20260424T062310
VTIMEZONE:America/New_York
DTSTART:20260825T233000Z
DTEND:20260826T010000Z
UID:475500
SUMMARY:General Membership Meeting
LOCATION:
DESCRIPTION:General Membership Meeting\n\n08/25/26 07:30 PM EST\n - 08/25/26 09:00 PM EST
X-ALT-DESC;FMTTYPE=text/html:General Membership Meeting<br /><br />08/25/26 07:30 PM EST - 08/25/26 09:00 PM EST
PRIORITY:3
TRANSP:TRANSPARENT
BEGIN:VALARM
TRIGGER:-PT5M
ACTION:DISPLAY
DESCRIPTION:Reminder
END:VALARM
END:VEVENT
END:VCALENDAR
