BEGIN:VCALENDAR
VERSION:2.0
CALSCALE:GREGORIAN
METHOD:PUBLISH
PRODID://GSFG//475501
BEGIN:VEVENT
DTSTAMP:20260424T084559
VTIMEZONE:America/New_York
DTSTART:20260922T233000Z
DTEND:20260923T010000Z
UID:475501
SUMMARY:General Membership Meeting
LOCATION:
DESCRIPTION:General Membership Meeting\n\n09/22/26 07:30 PM EST\n - 09/22/26 09:00 PM EST
X-ALT-DESC;FMTTYPE=text/html:General Membership Meeting<br /><br />09/22/26 07:30 PM EST - 09/22/26 09:00 PM EST
PRIORITY:3
TRANSP:TRANSPARENT
BEGIN:VALARM
TRIGGER:-PT5M
ACTION:DISPLAY
DESCRIPTION:Reminder
END:VALARM
END:VEVENT
END:VCALENDAR
