BEGIN:VCALENDAR
VERSION:2.0
CALSCALE:GREGORIAN
METHOD:PUBLISH
PRODID://GSFG//475502
BEGIN:VEVENT
DTSTAMP:20260424T074942
VTIMEZONE:America/New_York
DTSTART:20261027T233000Z
DTEND:20261028T010000Z
UID:475502
SUMMARY:General Membership Meeting
LOCATION:
DESCRIPTION:General Membership Meeting\n\n10/27/26 07:30 PM EST\n - 10/27/26 09:00 PM EST
X-ALT-DESC;FMTTYPE=text/html:General Membership Meeting<br /><br />10/27/26 07:30 PM EST - 10/27/26 09:00 PM EST
PRIORITY:3
TRANSP:TRANSPARENT
BEGIN:VALARM
TRIGGER:-PT5M
ACTION:DISPLAY
DESCRIPTION:Reminder
END:VALARM
END:VEVENT
END:VCALENDAR
