BEGIN:VCALENDAR
VERSION:2.0
CALSCALE:GREGORIAN
METHOD:PUBLISH
PRODID://GSFG//475503
BEGIN:VEVENT
DTSTAMP:20260424T071142
VTIMEZONE:America/New_York
DTSTART:20261118T003000Z
DTEND:20261118T020000Z
UID:475503
SUMMARY:General Membership Meeting
LOCATION:
DESCRIPTION:General Membership Meeting\n\n11/17/26 07:30 PM EST\n - 11/17/26 09:00 PM EST
X-ALT-DESC;FMTTYPE=text/html:General Membership Meeting<br /><br />11/17/26 07:30 PM EST - 11/17/26 09:00 PM EST
PRIORITY:3
TRANSP:TRANSPARENT
BEGIN:VALARM
TRIGGER:-PT5M
ACTION:DISPLAY
DESCRIPTION:Reminder
END:VALARM
END:VEVENT
END:VCALENDAR
