BEGIN:VCALENDAR
VERSION:2.0
CALSCALE:GREGORIAN
METHOD:PUBLISH
PRODID://GSFG//475504
BEGIN:VEVENT
DTSTAMP:20260424T062244
VTIMEZONE:America/New_York
DTSTART:20261216T003000Z
DTEND:20261216T020000Z
UID:475504
SUMMARY:General Membership Meeting
LOCATION:
DESCRIPTION:General Membership Meeting\n\n12/15/26 07:30 PM EST\n - 12/15/26 09:00 PM EST
X-ALT-DESC;FMTTYPE=text/html:General Membership Meeting<br /><br />12/15/26 07:30 PM EST - 12/15/26 09:00 PM EST
PRIORITY:3
TRANSP:TRANSPARENT
BEGIN:VALARM
TRIGGER:-PT5M
ACTION:DISPLAY
DESCRIPTION:Reminder
END:VALARM
END:VEVENT
END:VCALENDAR
