BEGIN:VCALENDAR
VERSION:2.0
CALSCALE:GREGORIAN
METHOD:PUBLISH
PRODID://GSFG//482505
BEGIN:VEVENT
DTSTAMP:20260424T042553
VTIMEZONE:America/New_York
DTSTART:20260412T170000Z
DTEND:20260412T190000Z
UID:482505
SUMMARY:Easter Egg Hunt
LOCATION:
DESCRIPTION:Easter Egg Hunt\n\n04/12/26 01:00 PM EST\n - 04/12/26 03:00 PM EST\Description:\nEASTER EGG HUNT - 1PM\nALL RANGES & PONDS CLOSED SAT PM - SUN 3PM
X-ALT-DESC;FMTTYPE=text/html:Easter Egg Hunt<br /><br />04/12/26 01:00 PM EST - 04/12/26 03:00 PM EST<br />Description:<br /><span style="color:#00FF00"><span style="font-size:14px"><strong>EASTER EGG HUNT - 1PM<br />
ALL RANGES &amp; PONDS CLOSED SAT PM - SUN 3PM</strong></span></span>
PRIORITY:3
TRANSP:TRANSPARENT
BEGIN:VALARM
TRIGGER:-PT5M
ACTION:DISPLAY
DESCRIPTION:Reminder
END:VALARM
END:VEVENT
END:VCALENDAR
