BEGIN:VCALENDAR
VERSION:2.0
CALSCALE:GREGORIAN
METHOD:PUBLISH
PRODID://GSFG//511118
BEGIN:VEVENT
DTSTAMP:20260423T183058
VTIMEZONE:America/New_York
DTSTART:20260107T000000Z
DTEND:20260107T013000Z
UID:511118
SUMMARY:Executive Committee Meeting
LOCATION:
DESCRIPTION:Executive Committee Meeting\n\n01/06/26 07:00 PM EST\n - 01/06/26 08:30 PM EST
X-ALT-DESC;FMTTYPE=text/html:Executive Committee Meeting<br /><br />01/06/26 07:00 PM EST - 01/06/26 08:30 PM EST
PRIORITY:3
TRANSP:TRANSPARENT
BEGIN:VALARM
TRIGGER:-PT5M
ACTION:DISPLAY
DESCRIPTION:Reminder
END:VALARM
END:VEVENT
END:VCALENDAR
