BEGIN:VCALENDAR
VERSION:2.0
CALSCALE:GREGORIAN
METHOD:PUBLISH
PRODID://GSFG//511119
BEGIN:VEVENT
DTSTAMP:20260423T183141
VTIMEZONE:America/New_York
DTSTART:20260204T000000Z
DTEND:20260204T013000Z
UID:511119
SUMMARY:Executive Committee Meeting
LOCATION:
DESCRIPTION:Executive Committee Meeting\n\n02/03/26 07:00 PM EST\n - 02/03/26 08:30 PM EST
X-ALT-DESC;FMTTYPE=text/html:Executive Committee Meeting<br /><br />02/03/26 07:00 PM EST - 02/03/26 08:30 PM EST
PRIORITY:3
TRANSP:TRANSPARENT
BEGIN:VALARM
TRIGGER:-PT5M
ACTION:DISPLAY
DESCRIPTION:Reminder
END:VALARM
END:VEVENT
END:VCALENDAR
