BEGIN:VCALENDAR
VERSION:2.0
CALSCALE:GREGORIAN
METHOD:PUBLISH
PRODID://GSFG//511120
BEGIN:VEVENT
DTSTAMP:20260423T151316
VTIMEZONE:America/New_York
DTSTART:20260304T000000Z
DTEND:20260304T013000Z
UID:511120
SUMMARY:Executive Committee Meeting
LOCATION:
DESCRIPTION:Executive Committee Meeting\n\n03/03/26 07:00 PM EST\n - 03/03/26 08:30 PM EST
X-ALT-DESC;FMTTYPE=text/html:Executive Committee Meeting<br /><br />03/03/26 07:00 PM EST - 03/03/26 08:30 PM EST
PRIORITY:3
TRANSP:TRANSPARENT
BEGIN:VALARM
TRIGGER:-PT5M
ACTION:DISPLAY
DESCRIPTION:Reminder
END:VALARM
END:VEVENT
END:VCALENDAR
