BEGIN:VCALENDAR
VERSION:2.0
CALSCALE:GREGORIAN
METHOD:PUBLISH
PRODID://GSFG//511122
BEGIN:VEVENT
DTSTAMP:20260423T165742
VTIMEZONE:America/New_York
DTSTART:20260505T230000Z
DTEND:20260506T003000Z
UID:511122
SUMMARY:Executive Committee Meeting
LOCATION:
DESCRIPTION:Executive Committee Meeting\n\n05/05/26 07:00 PM EST\n - 05/05/26 08:30 PM EST
X-ALT-DESC;FMTTYPE=text/html:Executive Committee Meeting<br /><br />05/05/26 07:00 PM EST - 05/05/26 08:30 PM EST
PRIORITY:3
TRANSP:TRANSPARENT
BEGIN:VALARM
TRIGGER:-PT5M
ACTION:DISPLAY
DESCRIPTION:Reminder
END:VALARM
END:VEVENT
END:VCALENDAR
