BEGIN:VCALENDAR
VERSION:2.0
CALSCALE:GREGORIAN
METHOD:PUBLISH
PRODID://GSFG//511123
BEGIN:VEVENT
DTSTAMP:20260423T151210
VTIMEZONE:America/New_York
DTSTART:20260602T230000Z
DTEND:20260603T003000Z
UID:511123
SUMMARY:Executive Committee Meeting
LOCATION:
DESCRIPTION:Executive Committee Meeting\n\n06/02/26 07:00 PM EST\n - 06/02/26 08:30 PM EST
X-ALT-DESC;FMTTYPE=text/html:Executive Committee Meeting<br /><br />06/02/26 07:00 PM EST - 06/02/26 08:30 PM EST
PRIORITY:3
TRANSP:TRANSPARENT
BEGIN:VALARM
TRIGGER:-PT5M
ACTION:DISPLAY
DESCRIPTION:Reminder
END:VALARM
END:VEVENT
END:VCALENDAR
