BEGIN:VCALENDAR
VERSION:2.0
CALSCALE:GREGORIAN
METHOD:PUBLISH
PRODID://GSFG//511125
BEGIN:VEVENT
DTSTAMP:20260423T151423
VTIMEZONE:America/New_York
DTSTART:20260804T230000Z
DTEND:20260805T003000Z
UID:511125
SUMMARY:Executive Committee Meeting
LOCATION:
DESCRIPTION:Executive Committee Meeting\n\n08/04/26 07:00 PM EST\n - 08/04/26 08:30 PM EST
X-ALT-DESC;FMTTYPE=text/html:Executive Committee Meeting<br /><br />08/04/26 07:00 PM EST - 08/04/26 08:30 PM EST
PRIORITY:3
TRANSP:TRANSPARENT
BEGIN:VALARM
TRIGGER:-PT5M
ACTION:DISPLAY
DESCRIPTION:Reminder
END:VALARM
END:VEVENT
END:VCALENDAR
