BEGIN:VCALENDAR
VERSION:2.0
CALSCALE:GREGORIAN
METHOD:PUBLISH
PRODID://GSFG//511126
BEGIN:VEVENT
DTSTAMP:20260423T165849
VTIMEZONE:America/New_York
DTSTART:20260901T230000Z
DTEND:20260902T003000Z
UID:511126
SUMMARY:Executive Committee Meeting
LOCATION:
DESCRIPTION:Executive Committee Meeting\n\n09/01/26 07:00 PM EST\n - 09/01/26 08:30 PM EST
X-ALT-DESC;FMTTYPE=text/html:Executive Committee Meeting<br /><br />09/01/26 07:00 PM EST - 09/01/26 08:30 PM EST
PRIORITY:3
TRANSP:TRANSPARENT
BEGIN:VALARM
TRIGGER:-PT5M
ACTION:DISPLAY
DESCRIPTION:Reminder
END:VALARM
END:VEVENT
END:VCALENDAR
