BEGIN:VCALENDAR
VERSION:2.0
CALSCALE:GREGORIAN
METHOD:PUBLISH
PRODID://GSFG//511127
BEGIN:VEVENT
DTSTAMP:20260423T165946
VTIMEZONE:America/New_York
DTSTART:20261006T230000Z
DTEND:20261007T003000Z
UID:511127
SUMMARY:Executive Committee Meeting
LOCATION:
DESCRIPTION:Executive Committee Meeting\n\n10/06/26 07:00 PM EST\n - 10/06/26 08:30 PM EST
X-ALT-DESC;FMTTYPE=text/html:Executive Committee Meeting<br /><br />10/06/26 07:00 PM EST - 10/06/26 08:30 PM EST
PRIORITY:3
TRANSP:TRANSPARENT
BEGIN:VALARM
TRIGGER:-PT5M
ACTION:DISPLAY
DESCRIPTION:Reminder
END:VALARM
END:VEVENT
END:VCALENDAR
