BEGIN:VCALENDAR
VERSION:2.0
CALSCALE:GREGORIAN
METHOD:PUBLISH
PRODID://GSFG//511128
BEGIN:VEVENT
DTSTAMP:20260423T165001
VTIMEZONE:America/New_York
DTSTART:20261104T000000Z
DTEND:20261104T013000Z
UID:511128
SUMMARY:Executive Committee Meeting
LOCATION:
DESCRIPTION:Executive Committee Meeting\n\n11/03/26 07:00 PM EST\n - 11/03/26 08:30 PM EST
X-ALT-DESC;FMTTYPE=text/html:Executive Committee Meeting<br /><br />11/03/26 07:00 PM EST - 11/03/26 08:30 PM EST
PRIORITY:3
TRANSP:TRANSPARENT
BEGIN:VALARM
TRIGGER:-PT5M
ACTION:DISPLAY
DESCRIPTION:Reminder
END:VALARM
END:VEVENT
END:VCALENDAR
