BEGIN:VCALENDAR
VERSION:2.0
CALSCALE:GREGORIAN
METHOD:PUBLISH
PRODID://GSFG//511129
BEGIN:VEVENT
DTSTAMP:20260423T151247
VTIMEZONE:America/New_York
DTSTART:20261209T000000Z
DTEND:20261209T013000Z
UID:511129
SUMMARY:Executive Committee Meeting
LOCATION:
DESCRIPTION:Executive Committee Meeting\n\n12/08/26 07:00 PM EST\n - 12/08/26 08:30 PM EST
X-ALT-DESC;FMTTYPE=text/html:Executive Committee Meeting<br /><br />12/08/26 07:00 PM EST - 12/08/26 08:30 PM EST
PRIORITY:3
TRANSP:TRANSPARENT
BEGIN:VALARM
TRIGGER:-PT5M
ACTION:DISPLAY
DESCRIPTION:Reminder
END:VALARM
END:VEVENT
END:VCALENDAR
