BEGIN:VCALENDAR
VERSION:2.0
CALSCALE:GREGORIAN
METHOD:PUBLISH
PRODID://GSFG//513129
BEGIN:VEVENT
DTSTAMP:20260424T011140
VTIMEZONE:America/New_York
DTSTART:20260411T120000Z
DTEND:20260411T160000Z
UID:513129
SUMMARY:Kids Day
LOCATION:
DESCRIPTION:Kids Day\n\n04/11/26 08:00 AM EST\n - 04/11/26 12:00 PM EST\Description:\nKID'S DAY 8AM - 12PM\n"POND STAND OPEN" ALL RANGES CLOSED
X-ALT-DESC;FMTTYPE=text/html:Kids Day<br /><br />04/11/26 08:00 AM EST - 04/11/26 12:00 PM EST<br />Description:<br /><span style="font-size:14px"><span style="color:#0000FF"><strong>KID'S DAY 8AM - 12PM<br />
&quot;POND STAND OPEN&quot; ALL RANGES CLOSED</strong></span></span>
PRIORITY:3
TRANSP:TRANSPARENT
BEGIN:VALARM
TRIGGER:-PT5M
ACTION:DISPLAY
DESCRIPTION:Reminder
END:VALARM
END:VEVENT
END:VCALENDAR
