BEGIN:VCALENDAR
VERSION:2.0
CALSCALE:GREGORIAN
METHOD:PUBLISH
PRODID://GSFG//513170
BEGIN:VEVENT
DTSTAMP:20260423T202030
VTIMEZONE:America/New_York
DTSTART:20260509T120000Z
DTEND:20260509T160000Z
UID:513170
SUMMARY:Club Work Day
LOCATION:
DESCRIPTION:Club Work Day\n\n05/09/26 08:00 AM EST\n - 05/09/26 12:00 PM EST\Description:\nPonds and all ranges closed 8-12.
X-ALT-DESC;FMTTYPE=text/html:Club Work Day<br /><br />05/09/26 08:00 AM EST - 05/09/26 12:00 PM EST<br />Description:<br />Ponds and all ranges closed 8-12.
PRIORITY:3
TRANSP:TRANSPARENT
BEGIN:VALARM
TRIGGER:-PT5M
ACTION:DISPLAY
DESCRIPTION:Reminder
END:VALARM
END:VEVENT
END:VCALENDAR
