BEGIN:VCALENDAR
VERSION:2.0
CALSCALE:GREGORIAN
METHOD:PUBLISH
PRODID://GSFG//513217
BEGIN:VEVENT
DTSTAMP:20260424T011110
VTIMEZONE:America/New_York
DTSTART:20260728T233000Z
DTEND:20260729T013000Z
UID:513217
SUMMARY:Big Buck Contest Sign Up
LOCATION:
DESCRIPTION:Big Buck Contest Sign Up\n\n07/28/26 07:30 PM EST\n - 07/28/26 09:30 PM EST\Description:\nSign up for the Big Buck Contest at the general meeting.
X-ALT-DESC;FMTTYPE=text/html:Big Buck Contest Sign Up<br /><br />07/28/26 07:30 PM EST - 07/28/26 09:30 PM EST<br />Description:<br />Sign up for the Big Buck Contest at the general meeting.
PRIORITY:3
TRANSP:TRANSPARENT
BEGIN:VALARM
TRIGGER:-PT5M
ACTION:DISPLAY
DESCRIPTION:Reminder
END:VALARM
END:VEVENT
END:VCALENDAR
