BEGIN:VCALENDAR
VERSION:2.0
CALSCALE:GREGORIAN
METHOD:PUBLISH
PRODID://GSFG//513238
BEGIN:VEVENT
DTSTAMP:20260424T054032
VTIMEZONE:America/New_York
DTSTART:20260825T233000Z
DTEND:20260826T013000Z
UID:513238
SUMMARY:Final Big Buck Contest Sign Up
LOCATION:
DESCRIPTION:Final Big Buck Contest Sign Up\n\n08/25/26 07:30 PM EST\n - 08/25/26 09:30 PM EST\Description:\nFinal opportunity to sign up for the Big Buck Contest at the general meeting.
X-ALT-DESC;FMTTYPE=text/html:Final Big Buck Contest Sign Up<br /><br />08/25/26 07:30 PM EST - 08/25/26 09:30 PM EST<br />Description:<br />Final opportunity to sign up for the Big Buck Contest at the general meeting.
PRIORITY:3
TRANSP:TRANSPARENT
BEGIN:VALARM
TRIGGER:-PT5M
ACTION:DISPLAY
DESCRIPTION:Reminder
END:VALARM
END:VEVENT
END:VCALENDAR
