BEGIN:VCALENDAR
VERSION:2.0
CALSCALE:GREGORIAN
METHOD:PUBLISH
PRODID://GSFG//513251
BEGIN:VEVENT
DTSTAMP:20260424T044942
VTIMEZONE:America/New_York
DTSTART:20260905T120000Z
DTEND:20260905T160000Z
UID:513251
SUMMARY:Club Work Day
LOCATION:
DESCRIPTION:Club Work Day\n\n09/05/26 08:00 AM EST\n - 09/05/26 12:00 PM EST\Description:\nPonds and all ranges will be closed 8-12.
X-ALT-DESC;FMTTYPE=text/html:Club Work Day<br /><br />09/05/26 08:00 AM EST - 09/05/26 12:00 PM EST<br />Description:<br />Ponds and all ranges will be closed 8-12.
PRIORITY:3
TRANSP:TRANSPARENT
BEGIN:VALARM
TRIGGER:-PT5M
ACTION:DISPLAY
DESCRIPTION:Reminder
END:VALARM
END:VEVENT
END:VCALENDAR
