BEGIN:VCALENDAR
VERSION:2.0
CALSCALE:GREGORIAN
METHOD:PUBLISH
PRODID://GSFG//513258
BEGIN:VEVENT
DTSTAMP:20260423T232623
VTIMEZONE:America/New_York
DTSTART:20261010T120000Z
DTEND:20261010T160000Z
UID:513258
SUMMARY:Club Work Day
LOCATION:
DESCRIPTION:Club Work Day\n\n10/10/26 08:00 AM EST\n - 10/10/26 12:00 PM EST\Description:\nPonds and all ranges will be closed 8-12.
X-ALT-DESC;FMTTYPE=text/html:Club Work Day<br /><br />10/10/26 08:00 AM EST - 10/10/26 12:00 PM EST<br />Description:<br />Ponds and all ranges will be closed 8-12.
PRIORITY:3
TRANSP:TRANSPARENT
BEGIN:VALARM
TRIGGER:-PT5M
ACTION:DISPLAY
DESCRIPTION:Reminder
END:VALARM
END:VEVENT
END:VCALENDAR
