BEGIN:VCALENDAR
VERSION:2.0
CALSCALE:GREGORIAN
METHOD:PUBLISH
PRODID://GSFG//517190
BEGIN:VEVENT
DTSTAMP:20260423T202100
VTIMEZONE:America/New_York
DTSTART:20260430T100000Z
DTEND:20260501T034500Z
UID:517190
SUMMARY:Pond Treatment
LOCATION:
DESCRIPTION:Pond Treatment\n\n04/30/26 06:00 AM EST\n - 04/30/26 11:45 PM EST\Description:\nPonds will be closed Thursday April 30th for pond treatment.  Reopen Friday May 1st.
X-ALT-DESC;FMTTYPE=text/html:Pond Treatment<br /><br />04/30/26 06:00 AM EST - 04/30/26 11:45 PM EST<br />Description:<br />Ponds will be closed Thursday April 30th for pond treatment.&nbsp; Reopen Friday May 1st.
PRIORITY:3
TRANSP:TRANSPARENT
BEGIN:VALARM
TRIGGER:-PT5M
ACTION:DISPLAY
DESCRIPTION:Reminder
END:VALARM
END:VEVENT
END:VCALENDAR
